30.00000000000000
0.00000000000000
0.00000000000000
-30.00000000000000
555600.00000000000000
2823000.00000000000000
