60.00000000000000
0.00000000000000
0.00000000000000
-60.00000000000000
297900.00000000000000
3777000.00000000000000
